BEGIN:VCALENDAR
VERSION:2.0
PRODID:-//Lake Blackshear Resort &amp; Golf Club - Cordele, GA - ECPv6.15.17.1//NONSGML v1.0//EN
CALSCALE:GREGORIAN
METHOD:PUBLISH
X-ORIGINAL-URL:https://www.lakeblackshearresort.com
X-WR-CALDESC:Events for Lake Blackshear Resort &amp; Golf Club - Cordele, GA
REFRESH-INTERVAL;VALUE=DURATION:PT1H
X-Robots-Tag:noindex
X-PUBLISHED-TTL:PT1H
BEGIN:VTIMEZONE
TZID:America/New_York
BEGIN:DAYLIGHT
TZOFFSETFROM:-0500
TZOFFSETTO:-0400
TZNAME:EDT
DTSTART:20250309T070000
END:DAYLIGHT
BEGIN:STANDARD
TZOFFSETFROM:-0400
TZOFFSETTO:-0500
TZNAME:EST
DTSTART:20251102T060000
END:STANDARD
BEGIN:DAYLIGHT
TZOFFSETFROM:-0500
TZOFFSETTO:-0400
TZNAME:EDT
DTSTART:20260308T070000
END:DAYLIGHT
BEGIN:STANDARD
TZOFFSETFROM:-0400
TZOFFSETTO:-0500
TZNAME:EST
DTSTART:20261101T060000
END:STANDARD
BEGIN:DAYLIGHT
TZOFFSETFROM:-0500
TZOFFSETTO:-0400
TZNAME:EDT
DTSTART:20270314T070000
END:DAYLIGHT
BEGIN:STANDARD
TZOFFSETFROM:-0400
TZOFFSETTO:-0500
TZNAME:EST
DTSTART:20271107T060000
END:STANDARD
END:VTIMEZONE
BEGIN:VEVENT
DTSTART;TZID=America/New_York:20260315T090000
DTEND;TZID=America/New_York:20260315T160000
DTSTAMP:20260419T082057
CREATED:20260218T143546Z
LAST-MODIFIED:20260218T143546Z
UID:10094-1773565200-1773590400@www.lakeblackshearresort.com
SUMMARY:Day Out with Thomas the Train
DESCRIPTION:March 14\, 15\, 21\, 22\, 28 & 29\, 2026 \nGrounds open: 9:00 am to 4:00 pm \nTrain rides: (Trips are 30 minutes long): 10 am\, 11 am\, 12 noon\, 1:30 PM\, 2:30 pm\, 3:30 pm \nPricing: $23.00 per Person ages 1 and up \nAll Aboard for a Rockin’ Good Time! Day Out With Thomas: Let’s Rock\, Let’s Roll Tour is hitting the tracks and bringing the beat to SAM Shortline Excursion Train! Hop on board a real train ride with Thomas\, strike a pose at photo ops and snag something cool at the exclusive gift shop. \nThen\, keep the beat going at the Music Corner\, packed with lawn games\, hands-on activities\, and music-inspired fun that’ll have the whole family dancing! \nTickets on Sale now at https://www.samshortline.com/dayoutwiththomas
URL:https://www.lakeblackshearresort.com/calendar-event/day-out-with-thomas-the-train-2/
LOCATION:SAM Train Depot\, 2459-H US Highway 280 West\, Cordele\, GA\, 31015\, United States
END:VEVENT
END:VCALENDAR