BEGIN:VCALENDAR
VERSION:2.0
PRODID:-//Lake Blackshear Resort &amp; Golf Club - Cordele, GA - ECPv6.15.17.1//NONSGML v1.0//EN
CALSCALE:GREGORIAN
METHOD:PUBLISH
X-WR-CALNAME:Lake Blackshear Resort &amp; Golf Club - Cordele, GA
X-ORIGINAL-URL:https://www.lakeblackshearresort.com
X-WR-CALDESC:Events for Lake Blackshear Resort &amp; Golf Club - Cordele, GA
REFRESH-INTERVAL;VALUE=DURATION:PT1H
X-Robots-Tag:noindex
X-PUBLISHED-TTL:PT1H
BEGIN:VTIMEZONE
TZID:America/New_York
BEGIN:DAYLIGHT
TZOFFSETFROM:-0500
TZOFFSETTO:-0400
TZNAME:EDT
DTSTART:20250309T070000
END:DAYLIGHT
BEGIN:STANDARD
TZOFFSETFROM:-0400
TZOFFSETTO:-0500
TZNAME:EST
DTSTART:20251102T060000
END:STANDARD
BEGIN:DAYLIGHT
TZOFFSETFROM:-0500
TZOFFSETTO:-0400
TZNAME:EDT
DTSTART:20260308T070000
END:DAYLIGHT
BEGIN:STANDARD
TZOFFSETFROM:-0400
TZOFFSETTO:-0500
TZNAME:EST
DTSTART:20261101T060000
END:STANDARD
BEGIN:DAYLIGHT
TZOFFSETFROM:-0500
TZOFFSETTO:-0400
TZNAME:EDT
DTSTART:20270314T070000
END:DAYLIGHT
BEGIN:STANDARD
TZOFFSETFROM:-0400
TZOFFSETTO:-0500
TZNAME:EST
DTSTART:20271107T060000
END:STANDARD
END:VTIMEZONE
BEGIN:VEVENT
DTSTART;TZID=America/New_York:20260208T100000
DTEND;TZID=America/New_York:20260208T100000
DTSTAMP:20260419T200941
CREATED:20260115T180005Z
LAST-MODIFIED:20260115T180200Z
UID:10037-1770544800-1770544800@www.lakeblackshearresort.com
SUMMARY:Super Museum Sunday
DESCRIPTION:Step into history with us at the Visitor Center for Super Museum Sunday on February 8\, 2026 at 10am. Join us for a day of discover\, exhibits and military trivia that will put your knowledge to the test.
URL:https://www.lakeblackshearresort.com/calendar-event/super-museum-sunday/
LOCATION:Georgia Veterans State Park Visitors Center\, 2459 US HWY 280 W\, Cordele\, GA\, 31015\, United States
END:VEVENT
BEGIN:VEVENT
DTSTART;TZID=America/New_York:20260131T130000
DTEND;TZID=America/New_York:20260131T130000
DTSTAMP:20260419T200941
CREATED:20251215T191831Z
LAST-MODIFIED:20251215T191831Z
UID:10008-1769864400-1769864400@www.lakeblackshearresort.com
SUMMARY:What Makes Camping Special!
DESCRIPTION:Join us at the Campground Activity Shelter at 1pm on Saturday\, January 31\, 2026 to share your favorite camping adventures! Discover what makes camping extra special for others and create a fun craft to take home. For more information call 229-276-1004.
URL:https://www.lakeblackshearresort.com/calendar-event/what-makes-camping-special/
LOCATION:Camground Activity Shelter
END:VEVENT
END:VCALENDAR