BEGIN:VCALENDAR
VERSION:2.0
PRODID:-//Lake Blackshear Resort &amp; Golf Club - Cordele, GA - ECPv6.15.17.1//NONSGML v1.0//EN
CALSCALE:GREGORIAN
METHOD:PUBLISH
X-ORIGINAL-URL:https://www.lakeblackshearresort.com
X-WR-CALDESC:Events for Lake Blackshear Resort &amp; Golf Club - Cordele, GA
REFRESH-INTERVAL;VALUE=DURATION:PT1H
X-Robots-Tag:noindex
X-PUBLISHED-TTL:PT1H
BEGIN:VTIMEZONE
TZID:America/New_York
BEGIN:DAYLIGHT
TZOFFSETFROM:-0500
TZOFFSETTO:-0400
TZNAME:EDT
DTSTART:20250309T070000
END:DAYLIGHT
BEGIN:STANDARD
TZOFFSETFROM:-0400
TZOFFSETTO:-0500
TZNAME:EST
DTSTART:20251102T060000
END:STANDARD
BEGIN:DAYLIGHT
TZOFFSETFROM:-0500
TZOFFSETTO:-0400
TZNAME:EDT
DTSTART:20260308T070000
END:DAYLIGHT
BEGIN:STANDARD
TZOFFSETFROM:-0400
TZOFFSETTO:-0500
TZNAME:EST
DTSTART:20261101T060000
END:STANDARD
BEGIN:DAYLIGHT
TZOFFSETFROM:-0500
TZOFFSETTO:-0400
TZNAME:EDT
DTSTART:20270314T070000
END:DAYLIGHT
BEGIN:STANDARD
TZOFFSETFROM:-0400
TZOFFSETTO:-0500
TZNAME:EST
DTSTART:20271107T060000
END:STANDARD
END:VTIMEZONE
BEGIN:VEVENT
DTSTART;TZID=America/New_York:20260402T190000
DTEND;TZID=America/New_York:20260402T190000
DTSTAMP:20260421T102521
CREATED:20260305T190416Z
LAST-MODIFIED:20260305T190416Z
UID:10135-1775156400-1775156400@www.lakeblackshearresort.com
SUMMARY:Ultimate Trivia Showdown @ Cypress Grill
DESCRIPTION:Join us every Thursday at 7pm between April 2 – May 7\, 2026 for our Ultimate Trivia Showdown! Every week counts. Points will accumulate each week for 6 consecutive weeks. The Grand Champ will be crowned on Week 6 and receive a $200 Resort Credit. \nIf you miss a week\, you can still catch up. Max 8 people per team.
URL:https://www.lakeblackshearresort.com/calendar-event/ultimate-trivia-showdown-cypress-grill/
LOCATION:Cypress Grill\, 2459 -H US Highway 280 West Building E\, Cordele\, GA\, 31015\, United States
END:VEVENT
BEGIN:VEVENT
DTSTART;TZID=America/New_York:20260403T190000
DTEND;TZID=America/New_York:20260403T190000
DTSTAMP:20260421T102521
CREATED:20260218T145536Z
LAST-MODIFIED:20260218T145536Z
UID:10115-1775242800-1775242800@www.lakeblackshearresort.com
SUMMARY:Music BINGO @ Cypress Grill
DESCRIPTION:Come to Cypress Grill for Music BINGO starting at 7pm. We’re kicking things into the next gear by introducing Theme Nights. This weekend the theme is “Thrift Store.” See you tonight!
URL:https://www.lakeblackshearresort.com/calendar-event/music-bingo-cypress-grill/
LOCATION:Cypress Grill\, 2459 -H US Highway 280 West Building E\, Cordele\, GA\, 31015\, United States
END:VEVENT
BEGIN:VEVENT
DTSTART;TZID=America/New_York:20260404T100000
DTEND;TZID=America/New_York:20260404T100000
DTSTAMP:20260421T102521
CREATED:20260310T184734Z
LAST-MODIFIED:20260310T184734Z
UID:10217-1775296800-1775296800@www.lakeblackshearresort.com
SUMMARY:Easter Egg Hunt
DESCRIPTION:Join the Cordele Kiwanis Club for an Easter Egg Hunt at Georgia Veterans State Park on Saturday\, April 4\, 2026 at 10am. Participation is free. $10 parking fee per car entering the park.
URL:https://www.lakeblackshearresort.com/calendar-event/easter-egg-hunt/
LOCATION:Georgia Veterans State Park\, 2459-H US Highway 280 West\, Cordele\, GA\, 31015\, United States
END:VEVENT
BEGIN:VEVENT
DTSTART;TZID=America/New_York:20260404T200000
DTEND;TZID=America/New_York:20260404T200000
DTSTAMP:20260421T102521
CREATED:20260218T144739Z
LAST-MODIFIED:20260218T144739Z
UID:10109-1775332800-1775332800@www.lakeblackshearresort.com
SUMMARY:Dueling Pianos @ Cypress Grill
DESCRIPTION:Join us tonight at Cypress Grill when Dueling Pianos takes the stage! See the full entertainment lineup at https://www.lakeblackshearresort.com/dining/cypress-grill
URL:https://www.lakeblackshearresort.com/calendar-event/dueling-pianos-cypress-grill/
LOCATION:Cypress Grill\, 2459 -H US Highway 280 West Building E\, Cordele\, GA\, 31015\, United States
END:VEVENT
BEGIN:VEVENT
DTSTART;TZID=America/New_York:20260405T110000
DTEND;TZID=America/New_York:20260405T140000
DTSTAMP:20260421T102521
CREATED:20260218T145137Z
LAST-MODIFIED:20260220T154135Z
UID:10112-1775386800-1775397600@www.lakeblackshearresort.com
SUMMARY:Easter Lunch Buffet @ Cypress Grill
DESCRIPTION:Join us in Cypress Grill on Sunday\, April 5\, 2026 from 11am to 2pm for our annual Easter Brunch Buffet. Reservations must be made no later than April 1\, 2026. For reservations and information contact Tori Lamb at 229-276-1004.
URL:https://www.lakeblackshearresort.com/calendar-event/easter-lunch-buffet-cypress-grill/
LOCATION:Cypress Grill\, 2459 -H US Highway 280 West Building E\, Cordele\, GA\, 31015\, United States
END:VEVENT
BEGIN:VEVENT
DTSTART;TZID=America/New_York:20260409T190000
DTEND;TZID=America/New_York:20260409T190000
DTSTAMP:20260421T102521
CREATED:20260305T191101Z
LAST-MODIFIED:20260305T191101Z
UID:10138-1775761200-1775761200@www.lakeblackshearresort.com
SUMMARY:Ultimate Trivia Showdown @ Cypress Grill
DESCRIPTION:Join us every Thursday at 7pm between April 2 – May 7\, 2026 for our Ultimate Trivia Showdown! Every week counts. Points will accumulate each week for 6 consecutive weeks. The Grand Champ will be crowned on Week 6 and receive a $200 Resort Credit. \nIf you miss a week\, you can still catch up. Max 8 people per team.
URL:https://www.lakeblackshearresort.com/calendar-event/ultimate-trivia-showdown-cypress-grill-2/
LOCATION:Cypress Grill\, 2459 -H US Highway 280 West Building E\, Cordele\, GA\, 31015\, United States
END:VEVENT
BEGIN:VEVENT
DTSTART;TZID=America/New_York:20260411T170000
DTEND;TZID=America/New_York:20260411T190000
DTSTAMP:20260421T102521
CREATED:20260305T203046Z
LAST-MODIFIED:20260305T203046Z
UID:10199-1775926800-1775934000@www.lakeblackshearresort.com
SUMMARY:Family Game Night
DESCRIPTION:Meet us in the Activity Shelter on Saturday\, April 11. 2026 from 5pm – 7pm for a fun family game night. Play Monopoly\, Uno\, Pictionary\, Clue and more. Fun for all ages! \nCall 229-276-1004 for more information.
URL:https://www.lakeblackshearresort.com/calendar-event/family-game-night/
LOCATION:Camground Activity Shelter
END:VEVENT
BEGIN:VEVENT
DTSTART;TZID=America/New_York:20260411T200000
DTEND;TZID=America/New_York:20260411T200000
DTSTAMP:20260421T102521
CREATED:20260305T202110Z
LAST-MODIFIED:20260305T202110Z
UID:10190-1775937600-1775937600@www.lakeblackshearresort.com
SUMMARY:Rampage Band @ Cypress Grill
DESCRIPTION:Join us tonight at Cypress Grill when the Rampage Band takes the stage! See the full entertainment lineup at https://www.lakeblackshearresort.com/dining/cypress-grill
URL:https://www.lakeblackshearresort.com/calendar-event/rampage-band-cypress-grill/
LOCATION:Cypress Grill\, 2459 -H US Highway 280 West Building E\, Cordele\, GA\, 31015\, United States
END:VEVENT
BEGIN:VEVENT
DTSTART;TZID=America/New_York:20260416T190000
DTEND;TZID=America/New_York:20260416T190000
DTSTAMP:20260421T102521
CREATED:20260305T191200Z
LAST-MODIFIED:20260305T191200Z
UID:10140-1776366000-1776366000@www.lakeblackshearresort.com
SUMMARY:Ultimate Trivia Showdown @ Cypress Grill
DESCRIPTION:Join us every Thursday at 7pm between April 2 – May 7\, 2026 for our Ultimate Trivia Showdown! Every week counts. Points will accumulate each week for 6 consecutive weeks. The Grand Champ will be crowned on Week 6 and receive a $200 Resort Credit. \nIf you miss a week\, you can still catch up. Max 8 people per team.
URL:https://www.lakeblackshearresort.com/calendar-event/ultimate-trivia-showdown-cypress-grill-3/
LOCATION:Cypress Grill\, 2459 -H US Highway 280 West Building E\, Cordele\, GA\, 31015\, United States
END:VEVENT
BEGIN:VEVENT
DTSTART;TZID=America/New_York:20260417T190000
DTEND;TZID=America/New_York:20260417T190000
DTSTAMP:20260421T102521
CREATED:20260305T200842Z
LAST-MODIFIED:20260305T200842Z
UID:10174-1776452400-1776452400@www.lakeblackshearresort.com
SUMMARY:Music BINGO @ Cypress Grill
DESCRIPTION:Come to Cypress Grill for Music BINGO starting at 7pm. We’re kicking things into the next gear by introducing Theme Nights. This weekend the theme is “Country Night.” See you tonight!
URL:https://www.lakeblackshearresort.com/calendar-event/music-bingo-cypress-grill-2/
LOCATION:Cypress Grill\, 2459 -H US Highway 280 West Building E\, Cordele\, GA\, 31015\, United States
END:VEVENT
BEGIN:VEVENT
DTSTART;TZID=America/New_York:20260418T130000
DTEND;TZID=America/New_York:20260418T130000
DTSTAMP:20260421T102521
CREATED:20260305T203252Z
LAST-MODIFIED:20260305T203252Z
UID:10202-1776517200-1776517200@www.lakeblackshearresort.com
SUMMARY:Pioneer Games
DESCRIPTION:Join us on the Airfield on Saturday\, April 18\, 2026 at 1pm for an afternoon of classic pioneer games like Fox & Geese\, Blind Man’s Bluff\, Rolling Hoops\, Hopscotch\, Jump Rope and more! \nCall 229-276-1004 for more information.
URL:https://www.lakeblackshearresort.com/calendar-event/pioneer-games/
LOCATION:Airfield\, 2459 US Highway 280 West\, Cordele\, GA\, 31015\, United States
END:VEVENT
BEGIN:VEVENT
DTSTART;TZID=America/New_York:20260418T200000
DTEND;TZID=America/New_York:20260418T200000
DTSTAMP:20260421T102521
CREATED:20260305T202527Z
LAST-MODIFIED:20260305T202527Z
UID:10193-1776542400-1776542400@www.lakeblackshearresort.com
SUMMARY:Hwy 129 Band @ Cypress Grill
DESCRIPTION:Join us tonight at Cypress Grill when the HWY 129 Band takes the stage! See the full entertainment lineup at https://www.lakeblackshearresort.com/dining/cypress-grill
URL:https://www.lakeblackshearresort.com/calendar-event/hwy-129-band-cypress-grill/
LOCATION:Cypress Grill\, 2459 -H US Highway 280 West Building E\, Cordele\, GA\, 31015\, United States
END:VEVENT
BEGIN:VEVENT
DTSTART;TZID=America/New_York:20260423T190000
DTEND;TZID=America/New_York:20260423T190000
DTSTAMP:20260421T102521
CREATED:20260305T191343Z
LAST-MODIFIED:20260305T191343Z
UID:10142-1776970800-1776970800@www.lakeblackshearresort.com
SUMMARY:Ultimate Trivia Showdown @ Cypress Grill
DESCRIPTION:Join us every Thursday at 7pm between April 2 – May 7\, 2026 for our Ultimate Trivia Showdown! Every week counts. Points will accumulate each week for 6 consecutive weeks. The Grand Champ will be crowned on Week 6 and receive a $200 Resort Credit. \nIf you miss a week\, you can still catch up. Max 8 people per team.
URL:https://www.lakeblackshearresort.com/calendar-event/ultimate-trivia-showdown-cypress-grill-4/
LOCATION:Cypress Grill\, 2459 -H US Highway 280 West Building E\, Cordele\, GA\, 31015\, United States
END:VEVENT
BEGIN:VEVENT
DTSTART;VALUE=DATE:20260424
DTEND;VALUE=DATE:20260426
DTSTAMP:20260421T102521
CREATED:20260129T183534Z
LAST-MODIFIED:20260129T183534Z
UID:10076-1776988800-1777161599@www.lakeblackshearresort.com
SUMMARY:Smokin' on Blackshear BBQ & Balloons Festival
DESCRIPTION:Join us at Georgia Veterans State Park\, Friday\, April 24\, 2026 from 4pm to Dark and Saturday\, April 25\, 2026 from 10am to Dark. We’ll have Food Vendors\, Arts & Crafts Vendors\, Kids Activities\, Balloon Glow at sundown\, Live Entertainment and a BBQ Competition. \nBalloon will launch on Saturday & Sunday at 7am\, weather permitting. \nCall 229-276-1004 to learn more\, submit a vendor application or sign up for the BBQ competition.
URL:https://www.lakeblackshearresort.com/calendar-event/smokin-on-blackshear-bbq-balloons-festival/
LOCATION:Georgia Veterans State Park\, 2459-H US Highway 280 West\, Cordele\, GA\, 31015\, United States
END:VEVENT
BEGIN:VEVENT
DTSTART;TZID=America/New_York:20260425T200000
DTEND;TZID=America/New_York:20260425T200000
DTSTAMP:20260421T102521
CREATED:20260305T202802Z
LAST-MODIFIED:20260305T202802Z
UID:10196-1777147200-1777147200@www.lakeblackshearresort.com
SUMMARY:The Soulshakerz @ Cypress Grill
DESCRIPTION:Join us tonight at Cypress Grill when The Soulshakerz take the stage! See the full entertainment lineup at https://www.lakeblackshearresort.com/dining/cypress-grill
URL:https://www.lakeblackshearresort.com/calendar-event/the-soulshakerz-cypress-grill/
LOCATION:Cypress Grill\, 2459 -H US Highway 280 West Building E\, Cordele\, GA\, 31015\, United States
END:VEVENT
BEGIN:VEVENT
DTSTART;TZID=America/New_York:20260430T190000
DTEND;TZID=America/New_York:20260430T190000
DTSTAMP:20260421T102521
CREATED:20260305T191450Z
LAST-MODIFIED:20260305T191450Z
UID:10144-1777575600-1777575600@www.lakeblackshearresort.com
SUMMARY:Ultimate Trivia Showdown @ Cypress Grill
DESCRIPTION:Join us every Thursday at 7pm between April 2 – May 7\, 2026 for our Ultimate Trivia Showdown! Every week counts. Points will accumulate each week for 6 consecutive weeks. The Grand Champ will be crowned on Week 6 and receive a $200 Resort Credit. \nIf you miss a week\, you can still catch up. Max 8 people per team.
URL:https://www.lakeblackshearresort.com/calendar-event/ultimate-trivia-showdown-cypress-grill-5/
LOCATION:Cypress Grill\, 2459 -H US Highway 280 West Building E\, Cordele\, GA\, 31015\, United States
END:VEVENT
BEGIN:VEVENT
DTSTART;TZID=America/New_York:20260501T190000
DTEND;TZID=America/New_York:20260501T190000
DTSTAMP:20260421T102521
CREATED:20260305T200953Z
LAST-MODIFIED:20260305T200953Z
UID:10176-1777662000-1777662000@www.lakeblackshearresort.com
SUMMARY:Music BINGO @ Cypress Grill
DESCRIPTION:Come to Cypress Grill for Music BINGO starting at 7pm. We’re kicking things into the next gear by introducing Theme Nights. This weekend the theme is “Sock Hop.” See you tonight!
URL:https://www.lakeblackshearresort.com/calendar-event/music-bingo-cypress-grill-3/
LOCATION:Cypress Grill\, 2459 -H US Highway 280 West Building E\, Cordele\, GA\, 31015\, United States
END:VEVENT
BEGIN:VEVENT
DTSTART;TZID=America/New_York:20260502T200000
DTEND;TZID=America/New_York:20260502T200000
DTSTAMP:20260421T102521
CREATED:20260420T155106Z
LAST-MODIFIED:20260420T155106Z
UID:10234-1777752000-1777752000@www.lakeblackshearresort.com
SUMMARY:Old Soulz Band @ Cypress Grill
DESCRIPTION:Join us tonight at Cypress Grill when The Old Soulz Band takes the stage!
URL:https://www.lakeblackshearresort.com/calendar-event/old-soulz-band-cypress-grill/
LOCATION:Cypress Grill\, 2459 -H US Highway 280 West Building E\, Cordele\, GA\, 31015\, United States
END:VEVENT
BEGIN:VEVENT
DTSTART;TZID=America/New_York:20260507T190000
DTEND;TZID=America/New_York:20260507T190000
DTSTAMP:20260421T102521
CREATED:20260305T191607Z
LAST-MODIFIED:20260305T191607Z
UID:10146-1778180400-1778180400@www.lakeblackshearresort.com
SUMMARY:Ultimate Trivia Showdown @ Cypress Grill
DESCRIPTION:Join us every Thursday at 7pm between April 2 – May 7\, 2026 for our Ultimate Trivia Showdown! Every week counts. Points will accumulate each week for 6 consecutive weeks. The Grand Champ will be crowned on Week 6 and receive a $200 Resort Credit. \nIf you miss a week\, you can still catch up. Max 8 people per team.
URL:https://www.lakeblackshearresort.com/calendar-event/ultimate-trivia-showdown-cypress-grill-6/
LOCATION:Cypress Grill\, 2459 -H US Highway 280 West Building E\, Cordele\, GA\, 31015\, United States
END:VEVENT
BEGIN:VEVENT
DTSTART;TZID=America/New_York:20260509T130000
DTEND;TZID=America/New_York:20260509T160000
DTSTAMP:20260421T102521
CREATED:20260305T203426Z
LAST-MODIFIED:20260305T203426Z
UID:10206-1778331600-1778342400@www.lakeblackshearresort.com
SUMMARY:National Archery Day
DESCRIPTION:Step onto the archery range on Saturday\, May 9\, 2026 from 1pm – 4pm and take part in a special archery experience led by our certified instructor. All equipment is provided. Only $15 per person. \nTake aim\, draw back and let the arrows fly!
URL:https://www.lakeblackshearresort.com/calendar-event/national-archery-day/
LOCATION:Archery Range Pavilion\, 2459-H US Highway 280 West\, Cordele\, GA\, 31015
END:VEVENT
BEGIN:VEVENT
DTSTART;TZID=America/New_York:20260509T200000
DTEND;TZID=America/New_York:20260509T200000
DTSTAMP:20260421T102521
CREATED:20260420T160036Z
LAST-MODIFIED:20260420T160036Z
UID:10239-1778356800-1778356800@www.lakeblackshearresort.com
SUMMARY:Songs of the South (Alabama Tribute) @ Cypress Grill
DESCRIPTION:Join us tonight at Cypress Grill when Songs of the South – Alabama Tribute Band takes the stage!
URL:https://www.lakeblackshearresort.com/calendar-event/songs-of-the-south-alabama-tribute-cypress-grill/
LOCATION:Cypress Grill\, 2459 -H US Highway 280 West Building E\, Cordele\, GA\, 31015\, United States
END:VEVENT
BEGIN:VEVENT
DTSTART;TZID=America/New_York:20260510T110000
DTEND;TZID=America/New_York:20260510T180000
DTSTAMP:20260421T102521
CREATED:20260319T140244Z
LAST-MODIFIED:20260319T140244Z
UID:10223-1778410800-1778436000@www.lakeblackshearresort.com
SUMMARY:Mother's Day @ Cypress Grill
DESCRIPTION:Cypress Grill will honor Mothers Sunday\, May 10\, 2026 from 11am to 6pm. All mothers will receive 50% off their meal (alcohol not included). For parties of 12 or more\, please call 229-401-1295 for reservations.
URL:https://www.lakeblackshearresort.com/calendar-event/mothers-day-cypress-grill/
LOCATION:Cypress Grill\, 2459 -H US Highway 280 West Building E\, Cordele\, GA\, 31015\, United States
END:VEVENT
BEGIN:VEVENT
DTSTART;TZID=America/New_York:20260514T190000
DTEND;TZID=America/New_York:20260514T190000
DTSTAMP:20260421T102521
CREATED:20260420T163647Z
LAST-MODIFIED:20260420T163647Z
UID:10256-1778785200-1778785200@www.lakeblackshearresort.com
SUMMARY:Corporate Trivia Night @ Cypress Grill
DESCRIPTION:Think you team has what it takes? Bring your company out to compete in our corporate trivia nights – May 14th & July 9th – at 7pm – and battle it out for bragging rights! \nThe winning company receives FREE EVENT SPACE for a future event (subject to availability). This event is perfect for team building\, office outings & friendly competition in a fun atmosphere with great food. \nRally your coworkers and let’s see who takes the crown!
URL:https://www.lakeblackshearresort.com/calendar-event/corporate-trivia-night-cypress-grill/
LOCATION:Cypress Grill\, 2459 -H US Highway 280 West Building E\, Cordele\, GA\, 31015\, United States
END:VEVENT
BEGIN:VEVENT
DTSTART;TZID=America/New_York:20260515T190000
DTEND;TZID=America/New_York:20260515T190000
DTSTAMP:20260421T102521
CREATED:20260305T201125Z
LAST-MODIFIED:20260305T201125Z
UID:10178-1778871600-1778871600@www.lakeblackshearresort.com
SUMMARY:Music BINGO @ Cypress Grill
DESCRIPTION:Come to Cypress Grill for Music BINGO starting at 7pm. We’re kicking things into the next gear by introducing Theme Nights. This weekend the theme is “80s & 90s.” See you tonight!
URL:https://www.lakeblackshearresort.com/calendar-event/music-bingo-cypress-grill-4/
LOCATION:Cypress Grill\, 2459 -H US Highway 280 West Building E\, Cordele\, GA\, 31015\, United States
END:VEVENT
BEGIN:VEVENT
DTSTART;TZID=America/New_York:20260516T130000
DTEND;TZID=America/New_York:20260516T130000
DTSTAMP:20260421T102521
CREATED:20260305T203558Z
LAST-MODIFIED:20260305T203558Z
UID:10209-1778936400-1778936400@www.lakeblackshearresort.com
SUMMARY:Museum BINGO
DESCRIPTION:Join us on Saturday\, May 16\, 2026 at 1pm in the Visitor Center for Museum BINGO! We’ll explore the museum while we learn all about military history. Free to join and fun for all ages! \nCall 229-276-1004 for more information.
URL:https://www.lakeblackshearresort.com/calendar-event/museum-bingo/
LOCATION:Georgia Veterans State Park Visitors Center\, 2459 US HWY 280 W\, Cordele\, GA\, 31015\, United States
END:VEVENT
BEGIN:VEVENT
DTSTART;TZID=America/New_York:20260516T200000
DTEND;TZID=America/New_York:20260516T200000
DTSTAMP:20260421T102521
CREATED:20260420T160230Z
LAST-MODIFIED:20260420T160230Z
UID:10242-1778961600-1778961600@www.lakeblackshearresort.com
SUMMARY:Plum Tucker'd Band @ Cypress Grill
DESCRIPTION:Join us tonight at Cypress Grill when the Plum Tucker’d Band takes the stage!
URL:https://www.lakeblackshearresort.com/calendar-event/plum-tuckerd-band-cypress-grill/
LOCATION:Cypress Grill\, 2459 -H US Highway 280 West Building E\, Cordele\, GA\, 31015\, United States
END:VEVENT
BEGIN:VEVENT
DTSTART;TZID=America/New_York:20260522T200000
DTEND;TZID=America/New_York:20260522T200000
DTSTAMP:20260421T102521
CREATED:20260420T161015Z
LAST-MODIFIED:20260420T161015Z
UID:10248-1779480000-1779480000@www.lakeblackshearresort.com
SUMMARY:The Rock Mob @ Cypress Grill
DESCRIPTION:Join us tonight at Cypress Grill when The Rock Mob takes the stage!
URL:https://www.lakeblackshearresort.com/calendar-event/the-rock-mob-cypress-grill-2/
LOCATION:Cypress Grill\, 2459 -H US Highway 280 West Building E\, Cordele\, GA\, 31015\, United States
END:VEVENT
BEGIN:VEVENT
DTSTART;TZID=America/New_York:20260523T200000
DTEND;TZID=America/New_York:20260523T200000
DTSTAMP:20260421T102521
CREATED:20260420T160838Z
LAST-MODIFIED:20260420T160838Z
UID:10245-1779566400-1779566400@www.lakeblackshearresort.com
SUMMARY:The Georgia Chryslers @ Cypress Grill
DESCRIPTION:Join us tonight at Cypress Grill when The Georgia Chryslers take the stage!
URL:https://www.lakeblackshearresort.com/calendar-event/the-georgia-chryslers-cypress-grill/
LOCATION:Cypress Grill\, 2459 -H US Highway 280 West Building E\, Cordele\, GA\, 31015\, United States
END:VEVENT
BEGIN:VEVENT
DTSTART;TZID=America/New_York:20260524T190000
DTEND;TZID=America/New_York:20260524T220000
DTSTAMP:20260421T102521
CREATED:20260420T161703Z
LAST-MODIFIED:20260420T161703Z
UID:10250-1779649200-1779660000@www.lakeblackshearresort.com
SUMMARY:The Swingin' Medallions @ Cypress Grill
DESCRIPTION:Join us tonight at Cypress Grill when The Swingin’ Medallions take the stage! Reservations highly recommended. $25 for reserved seating. $15 general admission. Call 229-276-1004. This event sells out fast!
URL:https://www.lakeblackshearresort.com/calendar-event/the-swingin-medallions-cypress-grill/
LOCATION:Cypress Grill\, 2459 -H US Highway 280 West Building E\, Cordele\, GA\, 31015\, United States
END:VEVENT
BEGIN:VEVENT
DTSTART;TZID=America/New_York:20260528T190000
DTEND;TZID=America/New_York:20260528T190000
DTSTAMP:20260421T102521
CREATED:20260305T191907Z
LAST-MODIFIED:20260305T191907Z
UID:10148-1779994800-1779994800@www.lakeblackshearresort.com
SUMMARY:Ultimate Trivia Showdown @ Cypress Grill
DESCRIPTION:Join us every Thursday at 7pm between May 28 – July 6\, 2026 for our Ultimate Trivia Showdown! Every week counts. Points will accumulate each week for 6 consecutive weeks. The Grand Champ will be crowned on Week 6 and receive a $200 Resort Credit. \nIf you miss a week\, you can still catch up. Max 8 people per team.
URL:https://www.lakeblackshearresort.com/calendar-event/ultimate-trivia-showdown-cypress-grill-7/
LOCATION:Cypress Grill\, 2459 -H US Highway 280 West Building E\, Cordele\, GA\, 31015\, United States
END:VEVENT
END:VCALENDAR